BEGIN:VCALENDAR
VERSION:2.0
PRODID:-//Drug Free Montgomery County - ECPv4.9.12//NONSGML v1.0//EN
CALSCALE:GREGORIAN
METHOD:PUBLISH
X-WR-CALNAME:Drug Free Montgomery County
X-ORIGINAL-URL:https://drugfreemoco.org
X-WR-CALDESC:Events for Drug Free Montgomery County
BEGIN:VTIMEZONE
TZID:America/Indiana/Indianapolis
BEGIN:DAYLIGHT
TZOFFSETFROM:-0500
TZOFFSETTO:-0400
TZNAME:EDT
DTSTART:20240310T070000
END:DAYLIGHT
BEGIN:STANDARD
TZOFFSETFROM:-0400
TZOFFSETTO:-0500
TZNAME:EST
DTSTART:20241103T060000
END:STANDARD
END:VTIMEZONE
BEGIN:VEVENT
DTSTART;TZID=America/Indiana/Indianapolis:20240208T080000
DTEND;TZID=America/Indiana/Indianapolis:20240208T170000
DTSTAMP:20260424T151241
CREATED:20240205T161846Z
LAST-MODIFIED:20240205T161857Z
UID:1047-1707379200-1707411600@drugfreemoco.org
SUMMARY:Parent Cafe
DESCRIPTION: \nParent Cafe: Building Strong Relationships with Your Children \nThursday\, February 8\, 2024 \n5 PM to 7 PM \nRecovery Rec Center \n1300 Ladoga Rd. \nFree meal and childcare provided!! \nPlease RSVP to recoverycoalition47933@gmail.com \n
URL:https://drugfreemoco.org/event/1047/
LOCATION:Recovery Rec Center\, 1300 Ladoga Rd\, Crawfordsville\, IN\, 47933\, United States
END:VEVENT
END:VCALENDAR