BEGIN:VCALENDAR
VERSION:2.0
PRODID:-//Drug Free Montgomery County - ECPv4.9.12//NONSGML v1.0//EN
CALSCALE:GREGORIAN
METHOD:PUBLISH
X-WR-CALNAME:Drug Free Montgomery County
X-ORIGINAL-URL:https://drugfreemoco.org
X-WR-CALDESC:Events for Drug Free Montgomery County
BEGIN:VTIMEZONE
TZID:America/Indiana/Indianapolis
BEGIN:DAYLIGHT
TZOFFSETFROM:-0500
TZOFFSETTO:-0400
TZNAME:EDT
DTSTART:20220313T070000
END:DAYLIGHT
BEGIN:STANDARD
TZOFFSETFROM:-0400
TZOFFSETTO:-0500
TZNAME:EST
DTSTART:20221106T060000
END:STANDARD
END:VTIMEZONE
BEGIN:VEVENT
DTSTART;TZID=America/Indiana/Indianapolis:20220802T180000
DTEND;TZID=America/Indiana/Indianapolis:20220802T210000
DTSTAMP:20260425T184027
CREATED:20220624T144646Z
LAST-MODIFIED:20220624T150040Z
UID:745-1659463200-1659474000@drugfreemoco.org
SUMMARY:National Night Out
DESCRIPTION:Drug Free Montgomery County will be present with educational games and prizes! \n
URL:https://drugfreemoco.org/event/national-night-out/
LOCATION:Milligan Park\, 910 Mill St\, Crawfordsville\, IN\, 47933\, United States
END:VEVENT
END:VCALENDAR