BEGIN:VCALENDAR
VERSION:2.0
PRODID:-//Drug Free Montgomery County - ECPv4.9.12//NONSGML v1.0//EN
CALSCALE:GREGORIAN
METHOD:PUBLISH
X-WR-CALNAME:Drug Free Montgomery County
X-ORIGINAL-URL:https://drugfreemoco.org
X-WR-CALDESC:Events for Drug Free Montgomery County
BEGIN:VTIMEZONE
TZID:America/Indiana/Indianapolis
BEGIN:DAYLIGHT
TZOFFSETFROM:-0500
TZOFFSETTO:-0400
TZNAME:EDT
DTSTART:20210314T070000
END:DAYLIGHT
BEGIN:STANDARD
TZOFFSETFROM:-0400
TZOFFSETTO:-0500
TZNAME:EST
DTSTART:20211107T060000
END:STANDARD
END:VTIMEZONE
BEGIN:VEVENT
DTSTART;TZID=America/Indiana/Indianapolis:20210925T120000
DTEND;TZID=America/Indiana/Indianapolis:20210925T200000
DTSTAMP:20260426T001556
CREATED:20210805T143422Z
LAST-MODIFIED:20210805T143704Z
UID:658-1632571200-1632600000@drugfreemoco.org
SUMMARY:Walk for Recovery
DESCRIPTION:National Recovery Month is in September and InWell is hosting a Walk for Recovery at Milligan Park! \nJoin us for: Live Music\, A Walk Around the Park\, Food\, Games\, Community Resources\, Stories of Recovery and Hope\, and Family Fun!! \n
URL:https://drugfreemoco.org/event/walk-for-recovery/
LOCATION:Milligan Park\, 910 Mill St\, Crawfordsville\, IN\, 47933\, United States
ORGANIZER;CN="Integrative%20Wellness":MAILTO:macy.jones@inwell.org
END:VEVENT
END:VCALENDAR