BEGIN:VCALENDAR
VERSION:2.0
PRODID:-//Drug Free Montgomery County - ECPv4.9.12//NONSGML v1.0//EN
CALSCALE:GREGORIAN
METHOD:PUBLISH
X-WR-CALNAME:Drug Free Montgomery County
X-ORIGINAL-URL:https://drugfreemoco.org
X-WR-CALDESC:Events for Drug Free Montgomery County
BEGIN:VTIMEZONE
TZID:America/Indiana/Indianapolis
BEGIN:DAYLIGHT
TZOFFSETFROM:-0500
TZOFFSETTO:-0400
TZNAME:EDT
DTSTART:20220313T070000
END:DAYLIGHT
BEGIN:STANDARD
TZOFFSETFROM:-0400
TZOFFSETTO:-0500
TZNAME:EST
DTSTART:20221106T060000
END:STANDARD
END:VTIMEZONE
BEGIN:VEVENT
DTSTART;TZID=America/Indiana/Indianapolis:20220903T160000
DTEND;TZID=America/Indiana/Indianapolis:20220903T200000
DTSTAMP:20260425T112651
CREATED:20220629T145022Z
LAST-MODIFIED:20220629T145325Z
UID:748-1662220800-1662235200@drugfreemoco.org
SUMMARY:Rock Out Recovery!
DESCRIPTION: \n  \nInWell is Hosting the 2nd Annual Montgomery County Recovery Celebration! \nLIVE Music\, Food & Community Resources! \nCall Macy Simmons for details 765-259-3457 \n
URL:https://drugfreemoco.org/event/rock-out-recovery/
LOCATION:Pike Place Plaza\, Crawfordsville
ORGANIZER;CN="Integrative%20Wellness":MAILTO:macy.jones@inwell.org
END:VEVENT
END:VCALENDAR