BEGIN:VCALENDAR
VERSION:2.0
PRODID:-//Drug Free Montgomery County - ECPv4.9.12//NONSGML v1.0//EN
CALSCALE:GREGORIAN
METHOD:PUBLISH
X-WR-CALNAME:Drug Free Montgomery County
X-ORIGINAL-URL:https://drugfreemoco.org
X-WR-CALDESC:Events for Drug Free Montgomery County
BEGIN:VTIMEZONE
TZID:America/Indiana/Indianapolis
BEGIN:DAYLIGHT
TZOFFSETFROM:-0500
TZOFFSETTO:-0400
TZNAME:EDT
DTSTART:20230312T070000
END:DAYLIGHT
BEGIN:STANDARD
TZOFFSETFROM:-0400
TZOFFSETTO:-0500
TZNAME:EST
DTSTART:20231105T060000
END:STANDARD
END:VTIMEZONE
BEGIN:VEVENT
DTSTART;TZID=America/Indiana/Indianapolis:20230429T130000
DTEND;TZID=America/Indiana/Indianapolis:20230429T170000
DTSTAMP:20260424T182718
CREATED:20230330T133005Z
LAST-MODIFIED:20230330T133005Z
UID:975-1682773200-1682787600@drugfreemoco.org
SUMMARY:Free Haircuts
DESCRIPTION: \nThe Recovery Rec Center offers free hair cuts on the last Saturday of every month from 1 PM to 5 PM. \n
URL:https://drugfreemoco.org/event/free-haircuts-3/
LOCATION:Recovery Rec Center\, 1300 Ladoga Rd\, Crawfordsville\, IN\, 47933\, United States
END:VEVENT
END:VCALENDAR