BEGIN:VCALENDAR
VERSION:2.0
PRODID:-//Drug Free Montgomery County - ECPv4.9.12//NONSGML v1.0//EN
CALSCALE:GREGORIAN
METHOD:PUBLISH
X-WR-CALNAME:Drug Free Montgomery County
X-ORIGINAL-URL:https://drugfreemoco.org
X-WR-CALDESC:Events for Drug Free Montgomery County
BEGIN:VTIMEZONE
TZID:America/Indiana/Indianapolis
BEGIN:DAYLIGHT
TZOFFSETFROM:-0500
TZOFFSETTO:-0400
TZNAME:EDT
DTSTART:20240310T070000
END:DAYLIGHT
BEGIN:STANDARD
TZOFFSETFROM:-0400
TZOFFSETTO:-0500
TZNAME:EST
DTSTART:20241103T060000
END:STANDARD
END:VTIMEZONE
BEGIN:VEVENT
DTSTART;TZID=America/Indiana/Indianapolis:20240507T113000
DTEND;TZID=America/Indiana/Indianapolis:20240507T130000
DTSTAMP:20260424T104505
CREATED:20240423T140659Z
LAST-MODIFIED:20240423T140659Z
UID:1142-1715081400-1715086800@drugfreemoco.org
SUMMARY:Exploring the Role of ACEs Community Lunch & Learn
DESCRIPTION: \nExploring the Role of ACEs Community Lunch & Learn\nJoin us on Tuesday\, May 7\, 2024 from 11:30 AM to 1 PM at Fusion 54 for an ACEs Community Lunch & Learn. \nLunch will be provided. CEUs will be available to those working in mental health and social work. \n
URL:https://drugfreemoco.org/event/exploring-the-role-of-aces-community-lunch-learn/
LOCATION:Fusion 54
END:VEVENT
END:VCALENDAR