BEGIN:VCALENDAR
VERSION:2.0
PRODID:-//Drug Free Montgomery County - ECPv4.9.12//NONSGML v1.0//EN
CALSCALE:GREGORIAN
METHOD:PUBLISH
X-WR-CALNAME:Drug Free Montgomery County
X-ORIGINAL-URL:https://drugfreemoco.org
X-WR-CALDESC:Events for Drug Free Montgomery County
BEGIN:VTIMEZONE
TZID:America/Indiana/Indianapolis
BEGIN:DAYLIGHT
TZOFFSETFROM:-0500
TZOFFSETTO:-0400
TZNAME:EDT
DTSTART:20230312T070000
END:DAYLIGHT
BEGIN:STANDARD
TZOFFSETFROM:-0400
TZOFFSETTO:-0500
TZNAME:EST
DTSTART:20231105T060000
END:STANDARD
END:VTIMEZONE
BEGIN:VEVENT
DTSTART;TZID=America/Indiana/Indianapolis:20230727T113000
DTEND;TZID=America/Indiana/Indianapolis:20230727T130000
DTSTAMP:20260424T151627
CREATED:20230724T183135Z
LAST-MODIFIED:20230724T183135Z
UID:1019-1690457400-1690462800@drugfreemoco.org
SUMMARY:Community Education Event
DESCRIPTION: \n\nJoin us for a FREE community education event for This is Not About Drugs & Narcan training on Thursday\, July 27\, 2023 from 11:30 AM to 1 PM at Fusion 54 (3rd floor)! This event will help raise awareness for substance misuse\, teach you how to recognize the signs of an overdose\, and teach you how misuse can lead to addiction.\n\n\nPlease RSVP by emailing info.health@montgomerycounty.in.gov\n\n
URL:https://drugfreemoco.org/event/community-education-event/
LOCATION:Fusion 54
ORGANIZER;CN="Drug%20Free%20Montgomery%20County":MAILTO:info.health@montgomerycounty.in.gov
END:VEVENT
END:VCALENDAR